BEGIN:VCALENDAR
VERSION:2.0
PRODID:-//ChamberMaster//Event Calendar 2.0//EN
METHOD:PUBLISH
X-PUBLISHED-TTL:P1H
REFRESH-INTERVAL:P1H
CALSCALE:GREGORIAN
BEGIN:VTIMEZONE
TZID:America/Los_Angeles
BEGIN:DAYLIGHT
RRULE:FREQ=YEARLY;BYMONTH=3;BYDAY=2SU
DTSTART:20070101T000000
TZOFFSETFROM:-0800
TZOFFSETTO:-0700
TZNAME:Pacific Daylight Time
END:DAYLIGHT
BEGIN:STANDARD
RRULE:FREQ=YEARLY;BYMONTH=11;BYDAY=1SU
DTSTART:20070101T000000
TZOFFSETFROM:-0700
TZOFFSETTO:-0800
TZNAME:Pacific Standard Time
END:STANDARD
END:VTIMEZONE
BEGIN:VEVENT
DTSTART;TZID=America/Los_Angeles:20270121T080000
DTEND;TZID=America/Los_Angeles:20270122T180000
X-MICROSOFT-CDO-ALLDAYEVENT:FALSE
SUMMARY:Controversies 2027
DESCRIPTION:Ready to register for Controversies 2027? Scroll down and enter your email to begin. The symposium will bring together leading experts to tackle the most challenging questions in cardiovascular disease through dynamic keynote presentations\, spirited debates\, and interactive panel discussions. Visit the symposium website for information on accreditation\, agenda\, faculty\, hotel\, and more.Before completing your registration for the symposium\, please note the following:*Choose the appropriate category below to begin your registration. If you have a promo code\, you will enter it in the payment section.*The early registration rate will be available through December 18\, 2026.*Registration fees include symposium tuition\, access to the online syllabus with approved faculty slides\, and breakfasts\, lunches\, and breaks on January 21 and 22.*Registration fees are refundable\, minus a $100 processing fee\, if your cancellation is received by December 18\, 2026. Information will be included in your confirmation email.
X-ALT-DESC;FMTTYPE=text/html:<!DOCTYPE html><html><head><title></title></head><body aria-disabled="false"><p><span style="font-size: 24px\;"><strong fr-original-style="" style="font-weight: 700\;"><em>Ready to register for Controversies 2027?&nbsp\;</em></strong><em>Scroll down and enter your email to begin.&nbsp\;</em></span></p><p><span style="font-size: 18px\;">The symposium will bring together leading experts to tackle the most challenging questions in cardiovascular disease through dynamic keynote presentations\, spirited debates\, and interactive panel discussions.&nbsp\;</span></p><p><span style="font-size: 18px\;">Visit the <a fr-original-style="" href="https://promedicacme.com/controversies/" rel="noopener noreferrer" style="user-select: auto\;" target="_blank"><span style="color: rgb(0\, 0\, 255)\;">symposium website</span>&nbsp\;</a>for information on accreditation\, agenda\, faculty\, hotel\, and more.</span></p><p><span style="font-size: 18px\;"><strong fr-original-style="" style="font-weight: 700\;">Before completing your registration for the symposium\, please note the following:</strong></span></p><p><span style="font-size: 18px\;">*Choose the appropriate category below to begin your registration. If you have a promo code\, you will enter it in the payment section.</span></p><p><span style="font-size: 18px\;">*The early registration rate will be available through December 18\, 2026.</span></p><p><span style="font-size: 18px\;">*Registration fees include symposium tuition\, access to the online syllabus with approved faculty slides\, and breakfasts\, lunches\, and breaks on January 21 and 22.</span></p><p><span style="font-size: 18px\;">*Registration fees are refundable\, minus a $100 processing fee\, if your cancellation is received by December 18\, 2026. Information will be included in your confirmation email.</span></p></body></html>
LOCATION:9641 Sunset Blvd Beverly HIlls CA 90210
UID:e.4059.1450131
SEQUENCE:3
DTSTAMP:20260424T231901Z
URL:https://members.promedicacme.com/eventcalendar/Details/controversies-2027-1717711?sourceTypeId=Hub
END:VEVENT
END:VCALENDAR
