BEGIN:VCALENDAR
VERSION:2.0
PRODID:-//ChamberMaster//Event Calendar 2.0//EN
METHOD:PUBLISH
X-PUBLISHED-TTL:P1H
REFRESH-INTERVAL:P1H
CALSCALE:GREGORIAN
BEGIN:VTIMEZONE
TZID:America/Los_Angeles
BEGIN:DAYLIGHT
RRULE:FREQ=YEARLY;BYMONTH=3;BYDAY=2SU
DTSTART:20070101T000000
TZOFFSETFROM:-0800
TZOFFSETTO:-0700
TZNAME:Pacific Daylight Time
END:DAYLIGHT
BEGIN:STANDARD
RRULE:FREQ=YEARLY;BYMONTH=11;BYDAY=1SU
DTSTART:20070101T000000
TZOFFSETFROM:-0700
TZOFFSETTO:-0800
TZNAME:Pacific Standard Time
END:STANDARD
END:VTIMEZONE
BEGIN:VEVENT
DTSTART;VALUE=DATE:20261117
DTEND;VALUE=DATE:20261121
TRANSP:TRANSPARENT
X-MICROSOFT-CDO-ALLDAYEVENT:TRUE
SUMMARY:Cardiovascular Interventions 2026
DESCRIPTION:Ready to register now? Scroll down and enter your email address to get started!Cardiovascular Interventions 2026 will feature 20+ live complex coronary and structural cases\, lectures\, panel discussions\, and satellite programs focused on the latest techniques and updates in interventional cardiology.Satellite Sessions\nRegistrants have the opportunity to RSVP for the satellite events associated with the program through the registration form. Some satellite symposia are accredited and some are non-CME. Non-CME sessions will be clearly marked.Cancellation & Refund Information\nAll attendee registration cancellations must be submitted in writing and refunds will be subject to a $100 administration charge. Cancellations cannot be accepted over the telephone. Requests for cancellation must be submitted by October 16\, 2026.
X-ALT-DESC;FMTTYPE=text/html:<!DOCTYPE html><html><head><title></title></head><body aria-disabled="false"><p><span style="font-size: 24px\;"><strong fr-original-style="" style="font-weight: 700\;">Ready to register now? Scroll down and enter your email address to get started!</strong></span></p><p>Cardiovascular Interventions 2026 will feature 20+ live complex coronary and structural cases\, lectures\, panel discussions\, and satellite programs focused on the latest techniques and updates in interventional cardiology.</p><p><u><strong fr-original-style="" style="font-weight: 700\;">Satellite Sessions</strong></u><br>Registrants have the opportunity to RSVP for the satellite events associated with the program through the registration form. Some satellite symposia are accredited and some are non-CME. Non-CME sessions will be clearly marked.</p><p><u><strong fr-original-style="" style="font-weight: 700\;">Cancellation &amp\; Refund Information</strong></u><br>All attendee registration cancellations must be submitted in writing and refunds will be subject to a $100 administration charge. Cancellations cannot be accepted over the telephone. Requests for cancellation must be submitted by <strong fr-original-style="" style="font-weight: 700\;">October 16\, 2026</strong>.</p></body></html>
LOCATION:10950 N Torry Pines Blvd La Jolla CA 92037
UID:e.4059.1450068
SEQUENCE:3
DTSTAMP:20260424T231452Z
URL:https://members.promedicacme.com/eventcalendar/Details/cardiovascular-interventions-2026-1717650?sourceTypeId=Hub
END:VEVENT
END:VCALENDAR
